BEGIN:VCALENDAR
VERSION:2.0
PRODID:-//Sports Card Investor - ECPv6.15.20//NONSGML v1.0//EN
CALSCALE:GREGORIAN
METHOD:PUBLISH
X-ORIGINAL-URL:https://www.sportscardinvestor.com
X-WR-CALDESC:Events for Sports Card Investor
REFRESH-INTERVAL;VALUE=DURATION:PT1H
X-Robots-Tag:noindex
X-PUBLISHED-TTL:PT1H
BEGIN:VTIMEZONE
TZID:America/New_York
BEGIN:DAYLIGHT
TZOFFSETFROM:-0500
TZOFFSETTO:-0400
TZNAME:EDT
DTSTART:20250309T070000
END:DAYLIGHT
BEGIN:STANDARD
TZOFFSETFROM:-0400
TZOFFSETTO:-0500
TZNAME:EST
DTSTART:20251102T060000
END:STANDARD
BEGIN:DAYLIGHT
TZOFFSETFROM:-0500
TZOFFSETTO:-0400
TZNAME:EDT
DTSTART:20260308T070000
END:DAYLIGHT
BEGIN:STANDARD
TZOFFSETFROM:-0400
TZOFFSETTO:-0500
TZNAME:EST
DTSTART:20261101T060000
END:STANDARD
BEGIN:DAYLIGHT
TZOFFSETFROM:-0500
TZOFFSETTO:-0400
TZNAME:EDT
DTSTART:20270314T070000
END:DAYLIGHT
BEGIN:STANDARD
TZOFFSETFROM:-0400
TZOFFSETTO:-0500
TZNAME:EST
DTSTART:20271107T060000
END:STANDARD
END:VTIMEZONE
BEGIN:VEVENT
DTSTART;TZID=America/New_York:20260418T100000
DTEND;TZID=America/New_York:20260418T160000
DTSTAMP:20260419T195142
CREATED:20260126T212818Z
LAST-MODIFIED:20260126T212818Z
UID:65481-1776506400-1776528000@www.sportscardinvestor.com
SUMMARY:Show Me Cardboard Card Show
DESCRIPTION:Tables: $60 paid by March 1st $75 After March 1st
URL:https://www.sportscardinvestor.com/event/show-me-cardboard-card-show/2026-04-18/
LOCATION:Mozingo Event Center\, 1 Fall Drive\, Maryville\, MO\, 64468\, United States
CATEGORIES:Card Shows
ORGANIZER;CN="Keith Urban":MAILTO:Showmechampionshipcardboard@gmail.com
END:VEVENT
BEGIN:VEVENT
DTSTART;TZID=America/New_York:20260417T080000
DTEND;TZID=America/New_York:20260417T170000
DTSTAMP:20260419T195142
CREATED:20260126T212818Z
LAST-MODIFIED:20260126T212818Z
UID:65478-1776412800-1776445200@www.sportscardinvestor.com
SUMMARY:Show Me Cardboard Card Show
DESCRIPTION:Tables: $60 paid by March 1st $75 After March 1st
URL:https://www.sportscardinvestor.com/event/show-me-cardboard-card-show/2026-04-17/
LOCATION:Mozingo Event Center\, 1 Fall Drive\, Maryville\, MO\, 64468\, United States
CATEGORIES:Card Shows
ORGANIZER;CN="Keith Urban":MAILTO:Showmechampionshipcardboard@gmail.com
END:VEVENT
END:VCALENDAR