BEGIN:VCALENDAR
VERSION:2.0
PRODID:-//Sports Card Investor - ECPv6.15.20//NONSGML v1.0//EN
CALSCALE:GREGORIAN
METHOD:PUBLISH
X-ORIGINAL-URL:https://www.sportscardinvestor.com
X-WR-CALDESC:Events for Sports Card Investor
REFRESH-INTERVAL;VALUE=DURATION:PT1H
X-Robots-Tag:noindex
X-PUBLISHED-TTL:PT1H
BEGIN:VTIMEZONE
TZID:America/New_York
BEGIN:DAYLIGHT
TZOFFSETFROM:-0500
TZOFFSETTO:-0400
TZNAME:EDT
DTSTART:20250309T070000
END:DAYLIGHT
BEGIN:STANDARD
TZOFFSETFROM:-0400
TZOFFSETTO:-0500
TZNAME:EST
DTSTART:20251102T060000
END:STANDARD
BEGIN:DAYLIGHT
TZOFFSETFROM:-0500
TZOFFSETTO:-0400
TZNAME:EDT
DTSTART:20260308T070000
END:DAYLIGHT
BEGIN:STANDARD
TZOFFSETFROM:-0400
TZOFFSETTO:-0500
TZNAME:EST
DTSTART:20261101T060000
END:STANDARD
BEGIN:DAYLIGHT
TZOFFSETFROM:-0500
TZOFFSETTO:-0400
TZNAME:EDT
DTSTART:20270314T070000
END:DAYLIGHT
BEGIN:STANDARD
TZOFFSETFROM:-0400
TZOFFSETTO:-0500
TZNAME:EST
DTSTART:20271107T060000
END:STANDARD
END:VTIMEZONE
BEGIN:VEVENT
DTSTART;TZID=America/New_York:20260425T110000
DTEND;TZID=America/New_York:20260425T180000
DTSTAMP:20260425T140022
CREATED:20251219T193952Z
LAST-MODIFIED:20251219T193952Z
UID:65327-1777114800-1777140000@www.sportscardinvestor.com
SUMMARY:Lackawanna Sports Card & TCG Show
DESCRIPTION:
URL:https://www.sportscardinvestor.com/event/lackawanna-sports-card-tcg-show/2026-04-25/
LOCATION:Viewmont Mall\, 100 Viewmont Mall\, Scranton\, PA\, 18508\, United States
CATEGORIES:Card Shows
ORGANIZER;CN="John Moran":MAILTO:Moonshotmoose@gmail.com
GEO:41.4588404;-75.656047
X-APPLE-STRUCTURED-LOCATION;VALUE=URI;X-ADDRESS=Viewmont Mall 100 Viewmont Mall Scranton PA 18508 United States;X-APPLE-RADIUS=500;X-TITLE=100 Viewmont Mall:geo:-75.656047,41.4588404
END:VEVENT
BEGIN:VEVENT
DTSTART;TZID=America/New_York:20260426T110000
DTEND;TZID=America/New_York:20260426T180000
DTSTAMP:20260425T140022
CREATED:20251219T193952Z
LAST-MODIFIED:20251219T193952Z
UID:65328-1777201200-1777226400@www.sportscardinvestor.com
SUMMARY:Lackawanna Sports Card & TCG Show
DESCRIPTION:
URL:https://www.sportscardinvestor.com/event/lackawanna-sports-card-tcg-show/2026-04-26/
LOCATION:Viewmont Mall\, 100 Viewmont Mall\, Scranton\, PA\, 18508\, United States
CATEGORIES:Card Shows
ORGANIZER;CN="John Moran":MAILTO:Moonshotmoose@gmail.com
GEO:41.4588404;-75.656047
X-APPLE-STRUCTURED-LOCATION;VALUE=URI;X-ADDRESS=Viewmont Mall 100 Viewmont Mall Scranton PA 18508 United States;X-APPLE-RADIUS=500;X-TITLE=100 Viewmont Mall:geo:-75.656047,41.4588404
END:VEVENT
BEGIN:VEVENT
DTSTART;TZID=America/New_York:20260523T110000
DTEND;TZID=America/New_York:20260523T180000
DTSTAMP:20260425T140022
CREATED:20251219T193952Z
LAST-MODIFIED:20251219T193952Z
UID:65329-1779534000-1779559200@www.sportscardinvestor.com
SUMMARY:Lackawanna Sports Card & TCG Show
DESCRIPTION:
URL:https://www.sportscardinvestor.com/event/lackawanna-sports-card-tcg-show/2026-05-23/
LOCATION:Viewmont Mall\, 100 Viewmont Mall\, Scranton\, PA\, 18508\, United States
CATEGORIES:Card Shows
ORGANIZER;CN="John Moran":MAILTO:Moonshotmoose@gmail.com
GEO:41.4588404;-75.656047
X-APPLE-STRUCTURED-LOCATION;VALUE=URI;X-ADDRESS=Viewmont Mall 100 Viewmont Mall Scranton PA 18508 United States;X-APPLE-RADIUS=500;X-TITLE=100 Viewmont Mall:geo:-75.656047,41.4588404
END:VEVENT
BEGIN:VEVENT
DTSTART;TZID=America/New_York:20260524T110000
DTEND;TZID=America/New_York:20260524T180000
DTSTAMP:20260425T140022
CREATED:20251219T193952Z
LAST-MODIFIED:20251219T193952Z
UID:65330-1779620400-1779645600@www.sportscardinvestor.com
SUMMARY:Lackawanna Sports Card & TCG Show
DESCRIPTION:
URL:https://www.sportscardinvestor.com/event/lackawanna-sports-card-tcg-show/2026-05-24/
LOCATION:Viewmont Mall\, 100 Viewmont Mall\, Scranton\, PA\, 18508\, United States
CATEGORIES:Card Shows
ORGANIZER;CN="John Moran":MAILTO:Moonshotmoose@gmail.com
GEO:41.4588404;-75.656047
X-APPLE-STRUCTURED-LOCATION;VALUE=URI;X-ADDRESS=Viewmont Mall 100 Viewmont Mall Scranton PA 18508 United States;X-APPLE-RADIUS=500;X-TITLE=100 Viewmont Mall:geo:-75.656047,41.4588404
END:VEVENT
BEGIN:VEVENT
DTSTART;TZID=America/New_York:20260613T110000
DTEND;TZID=America/New_York:20260613T180000
DTSTAMP:20260425T140022
CREATED:20251219T193952Z
LAST-MODIFIED:20251219T193952Z
UID:65332-1781348400-1781373600@www.sportscardinvestor.com
SUMMARY:Lackawanna Sports Card & TCG Show
DESCRIPTION:
URL:https://www.sportscardinvestor.com/event/lackawanna-sports-card-tcg-show/2026-06-13/
LOCATION:Viewmont Mall\, 100 Viewmont Mall\, Scranton\, PA\, 18508\, United States
CATEGORIES:Card Shows
ORGANIZER;CN="John Moran":MAILTO:Moonshotmoose@gmail.com
GEO:41.4588404;-75.656047
X-APPLE-STRUCTURED-LOCATION;VALUE=URI;X-ADDRESS=Viewmont Mall 100 Viewmont Mall Scranton PA 18508 United States;X-APPLE-RADIUS=500;X-TITLE=100 Viewmont Mall:geo:-75.656047,41.4588404
END:VEVENT
BEGIN:VEVENT
DTSTART;TZID=America/New_York:20260614T110000
DTEND;TZID=America/New_York:20260614T180000
DTSTAMP:20260425T140022
CREATED:20251219T193952Z
LAST-MODIFIED:20251219T193952Z
UID:65333-1781434800-1781460000@www.sportscardinvestor.com
SUMMARY:Lackawanna Sports Card & TCG Show
DESCRIPTION:
URL:https://www.sportscardinvestor.com/event/lackawanna-sports-card-tcg-show/2026-06-14/
LOCATION:Viewmont Mall\, 100 Viewmont Mall\, Scranton\, PA\, 18508\, United States
CATEGORIES:Card Shows
ORGANIZER;CN="John Moran":MAILTO:Moonshotmoose@gmail.com
GEO:41.4588404;-75.656047
X-APPLE-STRUCTURED-LOCATION;VALUE=URI;X-ADDRESS=Viewmont Mall 100 Viewmont Mall Scranton PA 18508 United States;X-APPLE-RADIUS=500;X-TITLE=100 Viewmont Mall:geo:-75.656047,41.4588404
END:VEVENT
BEGIN:VEVENT
DTSTART;TZID=America/New_York:20260725T110000
DTEND;TZID=America/New_York:20260725T180000
DTSTAMP:20260425T140022
CREATED:20251219T193952Z
LAST-MODIFIED:20251219T193952Z
UID:65334-1784977200-1785002400@www.sportscardinvestor.com
SUMMARY:Lackawanna Sports Card & TCG Show
DESCRIPTION:
URL:https://www.sportscardinvestor.com/event/lackawanna-sports-card-tcg-show/2026-07-25/
LOCATION:Viewmont Mall\, 100 Viewmont Mall\, Scranton\, PA\, 18508\, United States
CATEGORIES:Card Shows
ORGANIZER;CN="John Moran":MAILTO:Moonshotmoose@gmail.com
GEO:41.4588404;-75.656047
X-APPLE-STRUCTURED-LOCATION;VALUE=URI;X-ADDRESS=Viewmont Mall 100 Viewmont Mall Scranton PA 18508 United States;X-APPLE-RADIUS=500;X-TITLE=100 Viewmont Mall:geo:-75.656047,41.4588404
END:VEVENT
BEGIN:VEVENT
DTSTART;TZID=America/New_York:20260726T110000
DTEND;TZID=America/New_York:20260726T180000
DTSTAMP:20260425T140022
CREATED:20251219T193952Z
LAST-MODIFIED:20251219T193952Z
UID:65335-1785063600-1785088800@www.sportscardinvestor.com
SUMMARY:Lackawanna Sports Card & TCG Show
DESCRIPTION:
URL:https://www.sportscardinvestor.com/event/lackawanna-sports-card-tcg-show/2026-07-26/
LOCATION:Viewmont Mall\, 100 Viewmont Mall\, Scranton\, PA\, 18508\, United States
CATEGORIES:Card Shows
ORGANIZER;CN="John Moran":MAILTO:Moonshotmoose@gmail.com
GEO:41.4588404;-75.656047
X-APPLE-STRUCTURED-LOCATION;VALUE=URI;X-ADDRESS=Viewmont Mall 100 Viewmont Mall Scranton PA 18508 United States;X-APPLE-RADIUS=500;X-TITLE=100 Viewmont Mall:geo:-75.656047,41.4588404
END:VEVENT
BEGIN:VEVENT
DTSTART;TZID=America/New_York:20260829T110000
DTEND;TZID=America/New_York:20260829T180000
DTSTAMP:20260425T140022
CREATED:20251219T193952Z
LAST-MODIFIED:20251219T193952Z
UID:65336-1788001200-1788026400@www.sportscardinvestor.com
SUMMARY:Lackawanna Sports Card & TCG Show
DESCRIPTION:
URL:https://www.sportscardinvestor.com/event/lackawanna-sports-card-tcg-show/2026-08-29/
LOCATION:Viewmont Mall\, 100 Viewmont Mall\, Scranton\, PA\, 18508\, United States
CATEGORIES:Card Shows
ORGANIZER;CN="John Moran":MAILTO:Moonshotmoose@gmail.com
GEO:41.4588404;-75.656047
X-APPLE-STRUCTURED-LOCATION;VALUE=URI;X-ADDRESS=Viewmont Mall 100 Viewmont Mall Scranton PA 18508 United States;X-APPLE-RADIUS=500;X-TITLE=100 Viewmont Mall:geo:-75.656047,41.4588404
END:VEVENT
BEGIN:VEVENT
DTSTART;TZID=America/New_York:20260830T110000
DTEND;TZID=America/New_York:20260830T180000
DTSTAMP:20260425T140022
CREATED:20251219T193952Z
LAST-MODIFIED:20251219T193952Z
UID:65337-1788087600-1788112800@www.sportscardinvestor.com
SUMMARY:Lackawanna Sports Card & TCG Show
DESCRIPTION:
URL:https://www.sportscardinvestor.com/event/lackawanna-sports-card-tcg-show/2026-08-30/
LOCATION:Viewmont Mall\, 100 Viewmont Mall\, Scranton\, PA\, 18508\, United States
CATEGORIES:Card Shows
ORGANIZER;CN="John Moran":MAILTO:Moonshotmoose@gmail.com
GEO:41.4588404;-75.656047
X-APPLE-STRUCTURED-LOCATION;VALUE=URI;X-ADDRESS=Viewmont Mall 100 Viewmont Mall Scranton PA 18508 United States;X-APPLE-RADIUS=500;X-TITLE=100 Viewmont Mall:geo:-75.656047,41.4588404
END:VEVENT
BEGIN:VEVENT
DTSTART;TZID=America/New_York:20260926T110000
DTEND;TZID=America/New_York:20260926T180000
DTSTAMP:20260425T140022
CREATED:20251219T193952Z
LAST-MODIFIED:20251219T193952Z
UID:65338-1790420400-1790445600@www.sportscardinvestor.com
SUMMARY:Lackawanna Sports Card & TCG Show
DESCRIPTION:
URL:https://www.sportscardinvestor.com/event/lackawanna-sports-card-tcg-show/2026-09-26/
LOCATION:Viewmont Mall\, 100 Viewmont Mall\, Scranton\, PA\, 18508\, United States
CATEGORIES:Card Shows
ORGANIZER;CN="John Moran":MAILTO:Moonshotmoose@gmail.com
GEO:41.4588404;-75.656047
X-APPLE-STRUCTURED-LOCATION;VALUE=URI;X-ADDRESS=Viewmont Mall 100 Viewmont Mall Scranton PA 18508 United States;X-APPLE-RADIUS=500;X-TITLE=100 Viewmont Mall:geo:-75.656047,41.4588404
END:VEVENT
BEGIN:VEVENT
DTSTART;TZID=America/New_York:20260927T110000
DTEND;TZID=America/New_York:20260927T180000
DTSTAMP:20260425T140022
CREATED:20251219T193952Z
LAST-MODIFIED:20251219T193952Z
UID:65339-1790506800-1790532000@www.sportscardinvestor.com
SUMMARY:Lackawanna Sports Card & TCG Show
DESCRIPTION:
URL:https://www.sportscardinvestor.com/event/lackawanna-sports-card-tcg-show/2026-09-27/
LOCATION:Viewmont Mall\, 100 Viewmont Mall\, Scranton\, PA\, 18508\, United States
CATEGORIES:Card Shows
ORGANIZER;CN="John Moran":MAILTO:Moonshotmoose@gmail.com
GEO:41.4588404;-75.656047
X-APPLE-STRUCTURED-LOCATION;VALUE=URI;X-ADDRESS=Viewmont Mall 100 Viewmont Mall Scranton PA 18508 United States;X-APPLE-RADIUS=500;X-TITLE=100 Viewmont Mall:geo:-75.656047,41.4588404
END:VEVENT
BEGIN:VEVENT
DTSTART;TZID=America/New_York:20261024T110000
DTEND;TZID=America/New_York:20261024T180000
DTSTAMP:20260425T140022
CREATED:20251219T193952Z
LAST-MODIFIED:20251219T193952Z
UID:65340-1792839600-1792864800@www.sportscardinvestor.com
SUMMARY:Lackawanna Sports Card & TCG Show
DESCRIPTION:
URL:https://www.sportscardinvestor.com/event/lackawanna-sports-card-tcg-show/2026-10-24/
LOCATION:Viewmont Mall\, 100 Viewmont Mall\, Scranton\, PA\, 18508\, United States
CATEGORIES:Card Shows
ORGANIZER;CN="John Moran":MAILTO:Moonshotmoose@gmail.com
GEO:41.4588404;-75.656047
X-APPLE-STRUCTURED-LOCATION;VALUE=URI;X-ADDRESS=Viewmont Mall 100 Viewmont Mall Scranton PA 18508 United States;X-APPLE-RADIUS=500;X-TITLE=100 Viewmont Mall:geo:-75.656047,41.4588404
END:VEVENT
BEGIN:VEVENT
DTSTART;TZID=America/New_York:20261025T110000
DTEND;TZID=America/New_York:20261025T180000
DTSTAMP:20260425T140022
CREATED:20251219T193952Z
LAST-MODIFIED:20251219T193952Z
UID:65341-1792926000-1792951200@www.sportscardinvestor.com
SUMMARY:Lackawanna Sports Card & TCG Show
DESCRIPTION:
URL:https://www.sportscardinvestor.com/event/lackawanna-sports-card-tcg-show/2026-10-25/
LOCATION:Viewmont Mall\, 100 Viewmont Mall\, Scranton\, PA\, 18508\, United States
CATEGORIES:Card Shows
ORGANIZER;CN="John Moran":MAILTO:Moonshotmoose@gmail.com
GEO:41.4588404;-75.656047
X-APPLE-STRUCTURED-LOCATION;VALUE=URI;X-ADDRESS=Viewmont Mall 100 Viewmont Mall Scranton PA 18508 United States;X-APPLE-RADIUS=500;X-TITLE=100 Viewmont Mall:geo:-75.656047,41.4588404
END:VEVENT
BEGIN:VEVENT
DTSTART;TZID=America/New_York:20261115T110000
DTEND;TZID=America/New_York:20261115T180000
DTSTAMP:20260425T140022
CREATED:20251219T193952Z
LAST-MODIFIED:20251219T193952Z
UID:65342-1794740400-1794765600@www.sportscardinvestor.com
SUMMARY:Lackawanna Sports Card & TCG Show
DESCRIPTION:
URL:https://www.sportscardinvestor.com/event/lackawanna-sports-card-tcg-show/2026-11-15/
LOCATION:Viewmont Mall\, 100 Viewmont Mall\, Scranton\, PA\, 18508\, United States
CATEGORIES:Card Shows
ORGANIZER;CN="John Moran":MAILTO:Moonshotmoose@gmail.com
GEO:41.4588404;-75.656047
X-APPLE-STRUCTURED-LOCATION;VALUE=URI;X-ADDRESS=Viewmont Mall 100 Viewmont Mall Scranton PA 18508 United States;X-APPLE-RADIUS=500;X-TITLE=100 Viewmont Mall:geo:-75.656047,41.4588404
END:VEVENT
BEGIN:VEVENT
DTSTART;TZID=America/New_York:20261116T110000
DTEND;TZID=America/New_York:20261116T180000
DTSTAMP:20260425T140023
CREATED:20251219T193952Z
LAST-MODIFIED:20251219T193952Z
UID:65343-1794826800-1794852000@www.sportscardinvestor.com
SUMMARY:Lackawanna Sports Card & TCG Show
DESCRIPTION:
URL:https://www.sportscardinvestor.com/event/lackawanna-sports-card-tcg-show/2026-11-16/
LOCATION:Viewmont Mall\, 100 Viewmont Mall\, Scranton\, PA\, 18508\, United States
CATEGORIES:Card Shows
ORGANIZER;CN="John Moran":MAILTO:Moonshotmoose@gmail.com
GEO:41.4588404;-75.656047
X-APPLE-STRUCTURED-LOCATION;VALUE=URI;X-ADDRESS=Viewmont Mall 100 Viewmont Mall Scranton PA 18508 United States;X-APPLE-RADIUS=500;X-TITLE=100 Viewmont Mall:geo:-75.656047,41.4588404
END:VEVENT
BEGIN:VEVENT
DTSTART;TZID=America/New_York:20261127T110000
DTEND;TZID=America/New_York:20261127T180000
DTSTAMP:20260425T140023
CREATED:20251219T193952Z
LAST-MODIFIED:20251219T193952Z
UID:65344-1795777200-1795802400@www.sportscardinvestor.com
SUMMARY:Lackawanna Sports Card & TCG Show
DESCRIPTION:
URL:https://www.sportscardinvestor.com/event/lackawanna-sports-card-tcg-show/2026-11-27/
LOCATION:Viewmont Mall\, 100 Viewmont Mall\, Scranton\, PA\, 18508\, United States
CATEGORIES:Card Shows
ORGANIZER;CN="John Moran":MAILTO:Moonshotmoose@gmail.com
GEO:41.4588404;-75.656047
X-APPLE-STRUCTURED-LOCATION;VALUE=URI;X-ADDRESS=Viewmont Mall 100 Viewmont Mall Scranton PA 18508 United States;X-APPLE-RADIUS=500;X-TITLE=100 Viewmont Mall:geo:-75.656047,41.4588404
END:VEVENT
BEGIN:VEVENT
DTSTART;TZID=America/New_York:20261128T110000
DTEND;TZID=America/New_York:20261128T180000
DTSTAMP:20260425T140023
CREATED:20251219T193952Z
LAST-MODIFIED:20251219T193952Z
UID:65345-1795863600-1795888800@www.sportscardinvestor.com
SUMMARY:Lackawanna Sports Card & TCG Show
DESCRIPTION:
URL:https://www.sportscardinvestor.com/event/lackawanna-sports-card-tcg-show/2026-11-28/
LOCATION:Viewmont Mall\, 100 Viewmont Mall\, Scranton\, PA\, 18508\, United States
CATEGORIES:Card Shows
ORGANIZER;CN="John Moran":MAILTO:Moonshotmoose@gmail.com
GEO:41.4588404;-75.656047
X-APPLE-STRUCTURED-LOCATION;VALUE=URI;X-ADDRESS=Viewmont Mall 100 Viewmont Mall Scranton PA 18508 United States;X-APPLE-RADIUS=500;X-TITLE=100 Viewmont Mall:geo:-75.656047,41.4588404
END:VEVENT
BEGIN:VEVENT
DTSTART;TZID=America/New_York:20261129T110000
DTEND;TZID=America/New_York:20261129T180000
DTSTAMP:20260425T140023
CREATED:20251219T193952Z
LAST-MODIFIED:20251219T193952Z
UID:65346-1795950000-1795975200@www.sportscardinvestor.com
SUMMARY:Lackawanna Sports Card & TCG Show
DESCRIPTION:
URL:https://www.sportscardinvestor.com/event/lackawanna-sports-card-tcg-show/2026-11-29/
LOCATION:Viewmont Mall\, 100 Viewmont Mall\, Scranton\, PA\, 18508\, United States
CATEGORIES:Card Shows
ORGANIZER;CN="John Moran":MAILTO:Moonshotmoose@gmail.com
GEO:41.4588404;-75.656047
X-APPLE-STRUCTURED-LOCATION;VALUE=URI;X-ADDRESS=Viewmont Mall 100 Viewmont Mall Scranton PA 18508 United States;X-APPLE-RADIUS=500;X-TITLE=100 Viewmont Mall:geo:-75.656047,41.4588404
END:VEVENT
BEGIN:VEVENT
DTSTART;TZID=America/New_York:20261212T110000
DTEND;TZID=America/New_York:20261212T180000
DTSTAMP:20260425T140023
CREATED:20251219T193952Z
LAST-MODIFIED:20251219T193952Z
UID:65347-1797073200-1797098400@www.sportscardinvestor.com
SUMMARY:Lackawanna Sports Card & TCG Show
DESCRIPTION:
URL:https://www.sportscardinvestor.com/event/lackawanna-sports-card-tcg-show/2026-12-12/
LOCATION:Viewmont Mall\, 100 Viewmont Mall\, Scranton\, PA\, 18508\, United States
CATEGORIES:Card Shows
ORGANIZER;CN="John Moran":MAILTO:Moonshotmoose@gmail.com
GEO:41.4588404;-75.656047
X-APPLE-STRUCTURED-LOCATION;VALUE=URI;X-ADDRESS=Viewmont Mall 100 Viewmont Mall Scranton PA 18508 United States;X-APPLE-RADIUS=500;X-TITLE=100 Viewmont Mall:geo:-75.656047,41.4588404
END:VEVENT
BEGIN:VEVENT
DTSTART;TZID=America/New_York:20261213T110000
DTEND;TZID=America/New_York:20261213T180000
DTSTAMP:20260425T140023
CREATED:20251219T193952Z
LAST-MODIFIED:20251219T193952Z
UID:65348-1797159600-1797184800@www.sportscardinvestor.com
SUMMARY:Lackawanna Sports Card & TCG Show
DESCRIPTION:
URL:https://www.sportscardinvestor.com/event/lackawanna-sports-card-tcg-show/2026-12-13/
LOCATION:Viewmont Mall\, 100 Viewmont Mall\, Scranton\, PA\, 18508\, United States
CATEGORIES:Card Shows
ORGANIZER;CN="John Moran":MAILTO:Moonshotmoose@gmail.com
GEO:41.4588404;-75.656047
X-APPLE-STRUCTURED-LOCATION;VALUE=URI;X-ADDRESS=Viewmont Mall 100 Viewmont Mall Scranton PA 18508 United States;X-APPLE-RADIUS=500;X-TITLE=100 Viewmont Mall:geo:-75.656047,41.4588404
END:VEVENT
BEGIN:VEVENT
DTSTART;TZID=America/New_York:20261219T110000
DTEND;TZID=America/New_York:20261219T180000
DTSTAMP:20260425T140023
CREATED:20251219T193952Z
LAST-MODIFIED:20251219T193952Z
UID:65349-1797678000-1797703200@www.sportscardinvestor.com
SUMMARY:Lackawanna Sports Card & TCG Show
DESCRIPTION:
URL:https://www.sportscardinvestor.com/event/lackawanna-sports-card-tcg-show/2026-12-19/
LOCATION:Viewmont Mall\, 100 Viewmont Mall\, Scranton\, PA\, 18508\, United States
CATEGORIES:Card Shows
ORGANIZER;CN="John Moran":MAILTO:Moonshotmoose@gmail.com
GEO:41.4588404;-75.656047
X-APPLE-STRUCTURED-LOCATION;VALUE=URI;X-ADDRESS=Viewmont Mall 100 Viewmont Mall Scranton PA 18508 United States;X-APPLE-RADIUS=500;X-TITLE=100 Viewmont Mall:geo:-75.656047,41.4588404
END:VEVENT
BEGIN:VEVENT
DTSTART;TZID=America/New_York:20261220T110000
DTEND;TZID=America/New_York:20261220T180000
DTSTAMP:20260425T140023
CREATED:20251219T193952Z
LAST-MODIFIED:20251219T193952Z
UID:65350-1797764400-1797789600@www.sportscardinvestor.com
SUMMARY:Lackawanna Sports Card & TCG Show
DESCRIPTION:
URL:https://www.sportscardinvestor.com/event/lackawanna-sports-card-tcg-show/2026-12-20/
LOCATION:Viewmont Mall\, 100 Viewmont Mall\, Scranton\, PA\, 18508\, United States
CATEGORIES:Card Shows
ORGANIZER;CN="John Moran":MAILTO:Moonshotmoose@gmail.com
GEO:41.4588404;-75.656047
X-APPLE-STRUCTURED-LOCATION;VALUE=URI;X-ADDRESS=Viewmont Mall 100 Viewmont Mall Scranton PA 18508 United States;X-APPLE-RADIUS=500;X-TITLE=100 Viewmont Mall:geo:-75.656047,41.4588404
END:VEVENT
BEGIN:VEVENT
DTSTART;TZID=America/New_York:20261227T110000
DTEND;TZID=America/New_York:20261227T180000
DTSTAMP:20260425T140023
CREATED:20251219T193952Z
LAST-MODIFIED:20251219T193952Z
UID:65351-1798369200-1798394400@www.sportscardinvestor.com
SUMMARY:Lackawanna Sports Card & TCG Show
DESCRIPTION:
URL:https://www.sportscardinvestor.com/event/lackawanna-sports-card-tcg-show/2026-12-27/
LOCATION:Viewmont Mall\, 100 Viewmont Mall\, Scranton\, PA\, 18508\, United States
CATEGORIES:Card Shows
ORGANIZER;CN="John Moran":MAILTO:Moonshotmoose@gmail.com
GEO:41.4588404;-75.656047
X-APPLE-STRUCTURED-LOCATION;VALUE=URI;X-ADDRESS=Viewmont Mall 100 Viewmont Mall Scranton PA 18508 United States;X-APPLE-RADIUS=500;X-TITLE=100 Viewmont Mall:geo:-75.656047,41.4588404
END:VEVENT
END:VCALENDAR