BEGIN:VCALENDAR
VERSION:2.0
PRODID:-//Sports Card Investor - ECPv6.15.20//NONSGML v1.0//EN
CALSCALE:GREGORIAN
METHOD:PUBLISH
X-ORIGINAL-URL:https://www.sportscardinvestor.com
X-WR-CALDESC:Events for Sports Card Investor
REFRESH-INTERVAL;VALUE=DURATION:PT1H
X-Robots-Tag:noindex
X-PUBLISHED-TTL:PT1H
BEGIN:VTIMEZONE
TZID:America/New_York
BEGIN:DAYLIGHT
TZOFFSETFROM:-0500
TZOFFSETTO:-0400
TZNAME:EDT
DTSTART:20240310T070000
END:DAYLIGHT
BEGIN:STANDARD
TZOFFSETFROM:-0400
TZOFFSETTO:-0500
TZNAME:EST
DTSTART:20241103T060000
END:STANDARD
BEGIN:DAYLIGHT
TZOFFSETFROM:-0500
TZOFFSETTO:-0400
TZNAME:EDT
DTSTART:20250309T070000
END:DAYLIGHT
BEGIN:STANDARD
TZOFFSETFROM:-0400
TZOFFSETTO:-0500
TZNAME:EST
DTSTART:20251102T060000
END:STANDARD
BEGIN:DAYLIGHT
TZOFFSETFROM:-0500
TZOFFSETTO:-0400
TZNAME:EDT
DTSTART:20260308T070000
END:DAYLIGHT
BEGIN:STANDARD
TZOFFSETFROM:-0400
TZOFFSETTO:-0500
TZNAME:EST
DTSTART:20261101T060000
END:STANDARD
END:VTIMEZONE
BEGIN:VEVENT
DTSTART;VALUE=DATE:20251018
DTEND;VALUE=DATE:20251020
DTSTAMP:20260422T215652
CREATED:20241123T171634Z
LAST-MODIFIED:20250211T170134Z
UID:64125-1760745600-1760918399@www.sportscardinvestor.com
SUMMARY:KC Card Expo
DESCRIPTION:Hours: Sat 10AM to 7PM\, Sun 10AM to 5PM \nTables: 200 Tables\, Cost varies \nAdmission: $5.00 ; Kids 12 and under free
URL:https://www.sportscardinvestor.com/event/kc-card-expo-5/
LOCATION:The Pavillion at John Knox Village\, 520 NW Murray Rd\, Lee's Summit\, MO\, 64081\, United States
CATEGORIES:Card Shows
ORGANIZER;CN="Gas Card Shows":MAILTO:gascardshows@gmail.com
GEO:38.9228767;-94.4055213
X-APPLE-STRUCTURED-LOCATION;VALUE=URI;X-ADDRESS=The Pavillion at John Knox Village 520 NW Murray Rd Lee's Summit MO 64081 United States;X-APPLE-RADIUS=500;X-TITLE=520 NW Murray Rd:geo:-94.4055213,38.9228767
END:VEVENT
BEGIN:VEVENT
DTSTART;VALUE=DATE:20250809
DTEND;VALUE=DATE:20250811
DTSTAMP:20260422T215652
CREATED:20241123T171542Z
LAST-MODIFIED:20250211T170143Z
UID:64123-1754697600-1754870399@www.sportscardinvestor.com
SUMMARY:KC Card Expo
DESCRIPTION:Hours: Sat 10AM to 7PM\, Sun 10AM to 5PM \nTables: 200 Tables\, Cost varies \nAdmission: $5.00 ; Kids 12 and under free
URL:https://www.sportscardinvestor.com/event/kc-card-expo-4/
LOCATION:The Pavillion at John Knox Village\, 520 NW Murray Rd\, Lee's Summit\, MO\, 64081\, United States
CATEGORIES:Card Shows
ORGANIZER;CN="Gas Card Shows":MAILTO:gascardshows@gmail.com
GEO:38.9228767;-94.4055213
X-APPLE-STRUCTURED-LOCATION;VALUE=URI;X-ADDRESS=The Pavillion at John Knox Village 520 NW Murray Rd Lee's Summit MO 64081 United States;X-APPLE-RADIUS=500;X-TITLE=520 NW Murray Rd:geo:-94.4055213,38.9228767
END:VEVENT
BEGIN:VEVENT
DTSTART;VALUE=DATE:20250725
DTEND;VALUE=DATE:20250728
DTSTAMP:20260422T215652
CREATED:20241123T172221Z
LAST-MODIFIED:20250211T170250Z
UID:64132-1753401600-1753660799@www.sportscardinvestor.com
SUMMARY:Road to the National Card Show
DESCRIPTION:Hours: Fri 4PM to 8PM\, Sat 10AM to 7PM\, Sun 10AM to 5PM \nTables: 500 Tables\, Cost varies \nAdmission: $10.00 ; Kids 12 and under free
URL:https://www.sportscardinvestor.com/event/road-to-the-national-card-show/
LOCATION:CHI Center\, North 10th Street\, Omaha\, NE\, 68102\, United States
CATEGORIES:Card Shows
ORGANIZER;CN="Gas Card Shows":MAILTO:gascardshows@gmail.com
GEO:41.2638102;-95.9283773
X-APPLE-STRUCTURED-LOCATION;VALUE=URI;X-ADDRESS=CHI Center North 10th Street Omaha NE 68102 United States;X-APPLE-RADIUS=500;X-TITLE=North 10th Street:geo:-95.9283773,41.2638102
END:VEVENT
BEGIN:VEVENT
DTSTART;TZID=America/New_York:20250518T100000
DTEND;TZID=America/New_York:20250518T180000
DTSTAMP:20260422T215652
CREATED:20241206T200104Z
LAST-MODIFIED:20241206T200104Z
UID:64666-1747562400-1747591200@www.sportscardinvestor.com
SUMMARY:KC Royalty
DESCRIPTION:May 16-18\n\nLocation: The Sheraton at Crown Center \, 2345 McGee St\, Kansas City\, MO 64108 \nHours: Friday 2PM to 8PM\, Sat 10AM to 7PM\, Sun 10AM to 6PM \nTables: 600 Tables\, Cost varies \nAdmission: $20.00 Daily\, $40 Weekend; Discount tickets available online \nKids 12 and under free \nContact: GAS Card Shows\, 816-708-8535\, gascardshows@gmail.com \ngascardshows@gmail.com
URL:https://www.sportscardinvestor.com/event/royals-at-the-royal/2025-05-18/
LOCATION:The Sheraton at Crown Center\, 2345 McGee St\, Kansas City\, 64108\, United States
CATEGORIES:Card Shows
ORGANIZER;CN="Gas Card Shows":MAILTO:gascardshows@gmail.com
GEO:39.0850853;-94.5800979
X-APPLE-STRUCTURED-LOCATION;VALUE=URI;X-ADDRESS=The Sheraton at Crown Center 2345 McGee St Kansas City 64108 United States;X-APPLE-RADIUS=500;X-TITLE=2345 McGee St:geo:-94.5800979,39.0850853
END:VEVENT
BEGIN:VEVENT
DTSTART;TZID=America/New_York:20250517T100000
DTEND;TZID=America/New_York:20250517T190000
DTSTAMP:20260422T215652
CREATED:20241206T200104Z
LAST-MODIFIED:20241206T200104Z
UID:64665-1747476000-1747508400@www.sportscardinvestor.com
SUMMARY:KC Royalty
DESCRIPTION:May 16-18\n\nLocation: The Sheraton at Crown Center \, 2345 McGee St\, Kansas City\, MO 64108 \nHours: Friday 2PM to 8PM\, Sat 10AM to 7PM\, Sun 10AM to 6PM \nTables: 600 Tables\, Cost varies \nAdmission: $20.00 Daily\, $40 Weekend; Discount tickets available online \nKids 12 and under free \nContact: GAS Card Shows\, 816-708-8535\, gascardshows@gmail.com \ngascardshows@gmail.com
URL:https://www.sportscardinvestor.com/event/royals-at-the-royal/2025-05-17/
LOCATION:The Sheraton at Crown Center\, 2345 McGee St\, Kansas City\, 64108\, United States
CATEGORIES:Card Shows
ORGANIZER;CN="Gas Card Shows":MAILTO:gascardshows@gmail.com
GEO:39.0850853;-94.5800979
X-APPLE-STRUCTURED-LOCATION;VALUE=URI;X-ADDRESS=The Sheraton at Crown Center 2345 McGee St Kansas City 64108 United States;X-APPLE-RADIUS=500;X-TITLE=2345 McGee St:geo:-94.5800979,39.0850853
END:VEVENT
BEGIN:VEVENT
DTSTART;TZID=America/New_York:20250516T140000
DTEND;TZID=America/New_York:20250516T200000
DTSTAMP:20260422T215652
CREATED:20241206T200104Z
LAST-MODIFIED:20250211T160250Z
UID:64162-1747404000-1747425600@www.sportscardinvestor.com
SUMMARY:KC Royalty
DESCRIPTION:May 16-18\n\nLocation: The Sheraton at Crown Center \, 2345 McGee St\, Kansas City\, MO 64108 \nHours: Friday 2PM to 8PM\, Sat 10AM to 7PM\, Sun 10AM to 6PM \nTables: 600 Tables\, Cost varies \nAdmission: $20.00 Daily\, $40 Weekend; Discount tickets available online \nKids 12 and under free \nContact: GAS Card Shows\, 816-708-8535\, gascardshows@gmail.com \ngascardshows@gmail.com
URL:https://www.sportscardinvestor.com/event/royals-at-the-royal/2025-05-16/
LOCATION:The Sheraton at Crown Center\, 2345 McGee St\, Kansas City\, 64108\, United States
CATEGORIES:Card Shows
ORGANIZER;CN="Gas Card Shows":MAILTO:gascardshows@gmail.com
GEO:39.0850853;-94.5800979
X-APPLE-STRUCTURED-LOCATION;VALUE=URI;X-ADDRESS=The Sheraton at Crown Center 2345 McGee St Kansas City 64108 United States;X-APPLE-RADIUS=500;X-TITLE=2345 McGee St:geo:-94.5800979,39.0850853
END:VEVENT
BEGIN:VEVENT
DTSTART;VALUE=DATE:20250405
DTEND;VALUE=DATE:20250407
DTSTAMP:20260422T215652
CREATED:20241123T171459Z
LAST-MODIFIED:20250211T170152Z
UID:64120-1743811200-1743983999@www.sportscardinvestor.com
SUMMARY:KC Card Expo
DESCRIPTION:Hours: Sat 10AM to 7PM\, Sun 10AM to 5PM \nTables: 200 Tables\, Cost varies \nAdmission: $5.00 ; Kids 12 and under free
URL:https://www.sportscardinvestor.com/event/kc-card-expo-3/
LOCATION:The Pavillion at John Knox Village\, 520 NW Murray Rd\, Lee's Summit\, MO\, 64081\, United States
CATEGORIES:Card Shows
ORGANIZER;CN="Gas Card Shows":MAILTO:gascardshows@gmail.com
GEO:38.9228767;-94.4055213
X-APPLE-STRUCTURED-LOCATION;VALUE=URI;X-ADDRESS=The Pavillion at John Knox Village 520 NW Murray Rd Lee's Summit MO 64081 United States;X-APPLE-RADIUS=500;X-TITLE=520 NW Murray Rd:geo:-94.4055213,38.9228767
END:VEVENT
BEGIN:VEVENT
DTSTART;VALUE=DATE:20250321
DTEND;VALUE=DATE:20250324
DTSTAMP:20260422T215652
CREATED:20241123T172019Z
LAST-MODIFIED:20250211T170232Z
UID:64130-1742515200-1742774399@www.sportscardinvestor.com
SUMMARY:GAS at the MAC
DESCRIPTION:Hours: Fri 4PM to 8PM\, Sat 10AM to 7PM\, Sun 10AM to 5PM \nTables: 210 Tables\, Cost varies \nAdmission: $5.00 ; Kids 12 and under free
URL:https://www.sportscardinvestor.com/event/gas-at-the-mac/
LOCATION:Mid America Center\, 1 Arena Way\, Council Bluffs\, IA\, 51501\, United States
CATEGORIES:Card Shows
ORGANIZER;CN="Gas Card Shows":MAILTO:gascardshows@gmail.com
GEO:41.2374593;-95.8901628
X-APPLE-STRUCTURED-LOCATION;VALUE=URI;X-ADDRESS=Mid America Center 1 Arena Way Council Bluffs IA 51501 United States;X-APPLE-RADIUS=500;X-TITLE=1 Arena Way:geo:-95.8901628,41.2374593
END:VEVENT
BEGIN:VEVENT
DTSTART;VALUE=DATE:20250307
DTEND;VALUE=DATE:20250310
DTSTAMP:20260422T215652
CREATED:20241123T171831Z
LAST-MODIFIED:20250211T170124Z
UID:64127-1741305600-1741564799@www.sportscardinvestor.com
SUMMARY:OKC Card Expo
DESCRIPTION:Hours: Fri 4PM to 8PM\, Sat 10AM to 7PM\, Sun 10AM to 5PM \nTables: 400 Tables\, Cost varies \nAdmission: $10.00 ; Kids 12 and under free
URL:https://www.sportscardinvestor.com/event/okc-card-expo/
LOCATION:The Pavillion at OKC Fairgrounds\, Wichita Walk\, Oklahoma City\, OK\, 73107\, United States
CATEGORIES:Card Shows
ORGANIZER;CN="Gas Card Shows":MAILTO:gascardshows@gmail.com
GEO:35.4729076;-97.5733089
X-APPLE-STRUCTURED-LOCATION;VALUE=URI;X-ADDRESS=The Pavillion at OKC Fairgrounds Wichita Walk Oklahoma City OK 73107 United States;X-APPLE-RADIUS=500;X-TITLE=Wichita Walk:geo:-97.5733089,35.4729076
END:VEVENT
BEGIN:VEVENT
DTSTART;VALUE=DATE:20250124
DTEND;VALUE=DATE:20250126
DTSTAMP:20260422T215652
CREATED:20241123T171304Z
LAST-MODIFIED:20250211T170202Z
UID:64113-1737676800-1737849599@www.sportscardinvestor.com
SUMMARY:KC Card Expo
DESCRIPTION:Hours: Fri Noon-8PM\, Sat 10AM to 7PM \nTables: 200 Tables\, Cost varies \nAdmission: $5.00 ; Kids 12 and under free
URL:https://www.sportscardinvestor.com/event/kc-card-expo-2/
LOCATION:The Pavillion at John Knox Village\, 520 NW Murray Rd\, Lee's Summit\, MO\, 64081\, United States
CATEGORIES:Card Shows
ORGANIZER;CN="Gas Card Shows":MAILTO:gascardshows@gmail.com
GEO:38.9228767;-94.4055213
X-APPLE-STRUCTURED-LOCATION;VALUE=URI;X-ADDRESS=The Pavillion at John Knox Village 520 NW Murray Rd Lee's Summit MO 64081 United States;X-APPLE-RADIUS=500;X-TITLE=520 NW Murray Rd:geo:-94.4055213,38.9228767
END:VEVENT
END:VCALENDAR