BEGIN:VCALENDAR
VERSION:2.0
PRODID:-//Sports Card Investor - ECPv6.15.20//NONSGML v1.0//EN
CALSCALE:GREGORIAN
METHOD:PUBLISH
X-ORIGINAL-URL:https://www.sportscardinvestor.com
X-WR-CALDESC:Events for Sports Card Investor
REFRESH-INTERVAL;VALUE=DURATION:PT1H
X-Robots-Tag:noindex
X-PUBLISHED-TTL:PT1H
BEGIN:VTIMEZONE
TZID:America/New_York
BEGIN:DAYLIGHT
TZOFFSETFROM:-0500
TZOFFSETTO:-0400
TZNAME:EDT
DTSTART:20240310T070000
END:DAYLIGHT
BEGIN:STANDARD
TZOFFSETFROM:-0400
TZOFFSETTO:-0500
TZNAME:EST
DTSTART:20241103T060000
END:STANDARD
BEGIN:DAYLIGHT
TZOFFSETFROM:-0500
TZOFFSETTO:-0400
TZNAME:EDT
DTSTART:20250309T070000
END:DAYLIGHT
BEGIN:STANDARD
TZOFFSETFROM:-0400
TZOFFSETTO:-0500
TZNAME:EST
DTSTART:20251102T060000
END:STANDARD
BEGIN:DAYLIGHT
TZOFFSETFROM:-0500
TZOFFSETTO:-0400
TZNAME:EDT
DTSTART:20260308T070000
END:DAYLIGHT
BEGIN:STANDARD
TZOFFSETFROM:-0400
TZOFFSETTO:-0500
TZNAME:EST
DTSTART:20261101T060000
END:STANDARD
END:VTIMEZONE
BEGIN:VEVENT
DTSTART;TZID=America/New_York:20250126T090000
DTEND;TZID=America/New_York:20250126T143000
DTSTAMP:20260424T045949
CREATED:20250113T224902Z
LAST-MODIFIED:20250117T191129Z
UID:64344-1737882000-1737901800@www.sportscardinvestor.com
SUMMARY:Cape Cod Sports Pokemon Magic and TCG Card Show
DESCRIPTION:40 tables \nAdmission: $5 (under 12 free) \n8ft. Tables: $50.
URL:https://www.sportscardinvestor.com/event/cape-cod-sports-pokemon-magic-and-tcg-card-show/
LOCATION:Margaritaville Resort – Hyannis\, MA\, Iyannough Road 1225\, Barnstable\, MA\, 02601\, United States
CATEGORIES:Card Shows
ORGANIZER;CN="Flippin Flippers":MAILTO:Flippinflippers54@gmail.com
GEO:41.6741177;-70.3098789
X-APPLE-STRUCTURED-LOCATION;VALUE=URI;X-ADDRESS=Margaritaville Resort – Hyannis MA Iyannough Road 1225 Barnstable MA 02601 United States;X-APPLE-RADIUS=500;X-TITLE=Iyannough Road 1225:geo:-70.3098789,41.6741177
END:VEVENT
END:VCALENDAR