BEGIN:VCALENDAR
VERSION:2.0
PRODID:-//Sports Card Investor - ECPv6.15.20//NONSGML v1.0//EN
CALSCALE:GREGORIAN
METHOD:PUBLISH
X-WR-CALNAME:Sports Card Investor
X-ORIGINAL-URL:https://www.sportscardinvestor.com
X-WR-CALDESC:Events for Sports Card Investor
REFRESH-INTERVAL;VALUE=DURATION:PT1H
X-Robots-Tag:noindex
X-PUBLISHED-TTL:PT1H
BEGIN:VTIMEZONE
TZID:America/New_York
BEGIN:DAYLIGHT
TZOFFSETFROM:-0500
TZOFFSETTO:-0400
TZNAME:EDT
DTSTART:20220313T070000
END:DAYLIGHT
BEGIN:STANDARD
TZOFFSETFROM:-0400
TZOFFSETTO:-0500
TZNAME:EST
DTSTART:20221106T060000
END:STANDARD
BEGIN:DAYLIGHT
TZOFFSETFROM:-0500
TZOFFSETTO:-0400
TZNAME:EDT
DTSTART:20230312T070000
END:DAYLIGHT
BEGIN:STANDARD
TZOFFSETFROM:-0400
TZOFFSETTO:-0500
TZNAME:EST
DTSTART:20231105T060000
END:STANDARD
BEGIN:DAYLIGHT
TZOFFSETFROM:-0500
TZOFFSETTO:-0400
TZNAME:EDT
DTSTART:20240310T070000
END:DAYLIGHT
BEGIN:STANDARD
TZOFFSETFROM:-0400
TZOFFSETTO:-0500
TZNAME:EST
DTSTART:20241103T060000
END:STANDARD
END:VTIMEZONE
BEGIN:VEVENT
DTSTART;VALUE=DATE:20230506
DTEND;VALUE=DATE:20230507
DTSTAMP:20260425T172614
CREATED:20230407T155846Z
LAST-MODIFIED:20230407T155846Z
UID:52370-1683331200-1683417599@www.sportscardinvestor.com
SUMMARY:Spring Hill Collectibles Showcase
DESCRIPTION:
URL:https://www.sportscardinvestor.com/event/spring-hill-collectibles-showcase/2023-05-06/
LOCATION:St. Joan of Arc Parish Center\, 13485 Spring Hill Drive\, Spring Hill\, FL\, 34609\, United States
CATEGORIES:Card Shows
GEO:28.47148;-82.4985402
X-APPLE-STRUCTURED-LOCATION;VALUE=URI;X-ADDRESS=St. Joan of Arc Parish Center 13485 Spring Hill Drive Spring Hill FL 34609 United States;X-APPLE-RADIUS=500;X-TITLE=13485 Spring Hill Drive:geo:-82.4985402,28.47148
END:VEVENT
END:VCALENDAR