BEGIN:VCALENDAR
VERSION:2.0
PRODID:-//Sports Card Investor - ECPv6.15.20//NONSGML v1.0//EN
CALSCALE:GREGORIAN
METHOD:PUBLISH
X-WR-CALNAME:Sports Card Investor
X-ORIGINAL-URL:https://www.sportscardinvestor.com
X-WR-CALDESC:Events for Sports Card Investor
REFRESH-INTERVAL;VALUE=DURATION:PT1H
X-Robots-Tag:noindex
X-PUBLISHED-TTL:PT1H
BEGIN:VTIMEZONE
TZID:America/New_York
BEGIN:DAYLIGHT
TZOFFSETFROM:-0500
TZOFFSETTO:-0400
TZNAME:EDT
DTSTART:20240310T070000
END:DAYLIGHT
BEGIN:STANDARD
TZOFFSETFROM:-0400
TZOFFSETTO:-0500
TZNAME:EST
DTSTART:20241103T060000
END:STANDARD
BEGIN:DAYLIGHT
TZOFFSETFROM:-0500
TZOFFSETTO:-0400
TZNAME:EDT
DTSTART:20250309T070000
END:DAYLIGHT
BEGIN:STANDARD
TZOFFSETFROM:-0400
TZOFFSETTO:-0500
TZNAME:EST
DTSTART:20251102T060000
END:STANDARD
BEGIN:DAYLIGHT
TZOFFSETFROM:-0500
TZOFFSETTO:-0400
TZNAME:EDT
DTSTART:20260308T070000
END:DAYLIGHT
BEGIN:STANDARD
TZOFFSETFROM:-0400
TZOFFSETTO:-0500
TZNAME:EST
DTSTART:20261101T060000
END:STANDARD
END:VTIMEZONE
BEGIN:VEVENT
DTSTART;TZID=America/New_York:20250202T100000
DTEND;TZID=America/New_York:20250202T150000
DTSTAMP:20260423T111352
CREATED:20241107T144716Z
LAST-MODIFIED:20241107T144716Z
UID:63944-1738490400-1738508400@www.sportscardinvestor.com
SUMMARY:Sioux Falls Card Show
DESCRIPTION:Sioux Falls Convention Center\, 1201 West Ave\, Sioux Falls\, SD 57104. \nShow Hours: Sat 10am–6pm Sun 10am-3pm \nTables: 200  Admission: $5. Contact: Izaak\, izaak@dakotacardshow.com\, www.dakotacardshows.com
URL:https://www.sportscardinvestor.com/event/sioux-falls-card-show/2025-02-02/
LOCATION:Sioux Falls Convetion Center\, West Avenue\, Sioux Falls\, SD\, 57104\, United States
CATEGORIES:Card Shows
GEO:43.5608184;-96.7515673
X-APPLE-STRUCTURED-LOCATION;VALUE=URI;X-ADDRESS=Sioux Falls Convetion Center West Avenue Sioux Falls SD 57104 United States;X-APPLE-RADIUS=500;X-TITLE=West Avenue:geo:-96.7515673,43.5608184
END:VEVENT
BEGIN:VEVENT
DTSTART;TZID=America/New_York:20250201T100000
DTEND;TZID=America/New_York:20250201T180000
DTSTAMP:20260423T111352
CREATED:20241107T144716Z
LAST-MODIFIED:20241107T144716Z
UID:63942-1738404000-1738432800@www.sportscardinvestor.com
SUMMARY:Sioux Falls Card Show
DESCRIPTION:Sioux Falls Convention Center\, 1201 West Ave\, Sioux Falls\, SD 57104. \nShow Hours: Sat 10am–6pm Sun 10am-3pm \nTables: 200  Admission: $5. Contact: Izaak\, izaak@dakotacardshow.com\, www.dakotacardshows.com
URL:https://www.sportscardinvestor.com/event/sioux-falls-card-show/2025-02-01/
LOCATION:Sioux Falls Convetion Center\, West Avenue\, Sioux Falls\, SD\, 57104\, United States
CATEGORIES:Card Shows
GEO:43.5608184;-96.7515673
X-APPLE-STRUCTURED-LOCATION;VALUE=URI;X-ADDRESS=Sioux Falls Convetion Center West Avenue Sioux Falls SD 57104 United States;X-APPLE-RADIUS=500;X-TITLE=West Avenue:geo:-96.7515673,43.5608184
END:VEVENT
END:VCALENDAR