BEGIN:VCALENDAR
VERSION:2.0
PRODID:-//Sports Card Investor - ECPv6.15.20//NONSGML v1.0//EN
CALSCALE:GREGORIAN
METHOD:PUBLISH
X-ORIGINAL-URL:https://www.sportscardinvestor.com
X-WR-CALDESC:Events for Sports Card Investor
REFRESH-INTERVAL;VALUE=DURATION:PT1H
X-Robots-Tag:noindex
X-PUBLISHED-TTL:PT1H
BEGIN:VTIMEZONE
TZID:America/New_York
BEGIN:DAYLIGHT
TZOFFSETFROM:-0500
TZOFFSETTO:-0400
TZNAME:EDT
DTSTART:20250309T070000
END:DAYLIGHT
BEGIN:STANDARD
TZOFFSETFROM:-0400
TZOFFSETTO:-0500
TZNAME:EST
DTSTART:20251102T060000
END:STANDARD
BEGIN:DAYLIGHT
TZOFFSETFROM:-0500
TZOFFSETTO:-0400
TZNAME:EDT
DTSTART:20260308T070000
END:DAYLIGHT
BEGIN:STANDARD
TZOFFSETFROM:-0400
TZOFFSETTO:-0500
TZNAME:EST
DTSTART:20261101T060000
END:STANDARD
BEGIN:DAYLIGHT
TZOFFSETFROM:-0500
TZOFFSETTO:-0400
TZNAME:EDT
DTSTART:20270314T070000
END:DAYLIGHT
BEGIN:STANDARD
TZOFFSETFROM:-0400
TZOFFSETTO:-0500
TZNAME:EST
DTSTART:20271107T060000
END:STANDARD
END:VTIMEZONE
BEGIN:VEVENT
DTSTART;TZID=America/New_York:20260428T160000
DTEND;TZID=America/New_York:20260428T203000
DTSTAMP:20260424T033216
CREATED:20260325T162858Z
LAST-MODIFIED:20260325T162858Z
UID:65801-1777392000-1777408200@www.sportscardinvestor.com
SUMMARY:Major League Collective
DESCRIPTION:
URL:https://www.sportscardinvestor.com/event/major-league-collective/2026-04-28/
LOCATION:Collingswood Grand Ballroom\, 315 White Horse Pike\, Collingswood\, NJ\, 08107\, United States
CATEGORIES:Card Shows
ORGANIZER;CN="Bryan Woodward":MAILTO:admin@majorleaguecollective.com
END:VEVENT
BEGIN:VEVENT
DTSTART;TZID=America/New_York:20260526T160000
DTEND;TZID=America/New_York:20260526T203000
DTSTAMP:20260424T033216
CREATED:20260325T162858Z
LAST-MODIFIED:20260325T162858Z
UID:65802-1779811200-1779827400@www.sportscardinvestor.com
SUMMARY:Major League Collective
DESCRIPTION:
URL:https://www.sportscardinvestor.com/event/major-league-collective/2026-05-26/
LOCATION:Collingswood Grand Ballroom\, 315 White Horse Pike\, Collingswood\, NJ\, 08107\, United States
CATEGORIES:Card Shows
ORGANIZER;CN="Bryan Woodward":MAILTO:admin@majorleaguecollective.com
END:VEVENT
BEGIN:VEVENT
DTSTART;TZID=America/New_York:20260630T160000
DTEND;TZID=America/New_York:20260630T203000
DTSTAMP:20260424T033216
CREATED:20260325T162858Z
LAST-MODIFIED:20260325T162858Z
UID:65803-1782835200-1782851400@www.sportscardinvestor.com
SUMMARY:Major League Collective
DESCRIPTION:
URL:https://www.sportscardinvestor.com/event/major-league-collective/2026-06-30/
LOCATION:Collingswood Grand Ballroom\, 315 White Horse Pike\, Collingswood\, NJ\, 08107\, United States
CATEGORIES:Card Shows
ORGANIZER;CN="Bryan Woodward":MAILTO:admin@majorleaguecollective.com
END:VEVENT
BEGIN:VEVENT
DTSTART;TZID=America/New_York:20260714T160000
DTEND;TZID=America/New_York:20260714T203000
DTSTAMP:20260424T033216
CREATED:20260325T162858Z
LAST-MODIFIED:20260325T162858Z
UID:65804-1784044800-1784061000@www.sportscardinvestor.com
SUMMARY:Major League Collective
DESCRIPTION:
URL:https://www.sportscardinvestor.com/event/major-league-collective/2026-07-14/
LOCATION:Collingswood Grand Ballroom\, 315 White Horse Pike\, Collingswood\, NJ\, 08107\, United States
CATEGORIES:Card Shows
ORGANIZER;CN="Bryan Woodward":MAILTO:admin@majorleaguecollective.com
END:VEVENT
BEGIN:VEVENT
DTSTART;TZID=America/New_York:20260726T090000
DTEND;TZID=America/New_York:20260726T150000
DTSTAMP:20260424T033216
CREATED:20260325T162858Z
LAST-MODIFIED:20260325T162858Z
UID:65805-1785056400-1785078000@www.sportscardinvestor.com
SUMMARY:Major League Collective
DESCRIPTION:
URL:https://www.sportscardinvestor.com/event/major-league-collective/2026-07-26/
LOCATION:Collingswood Grand Ballroom\, 315 White Horse Pike\, Collingswood\, NJ\, 08107\, United States
CATEGORIES:Card Shows
ORGANIZER;CN="Bryan Woodward":MAILTO:admin@majorleaguecollective.com
END:VEVENT
BEGIN:VEVENT
DTSTART;TZID=America/New_York:20260808T090000
DTEND;TZID=America/New_York:20260808T150000
DTSTAMP:20260424T033216
CREATED:20260325T162858Z
LAST-MODIFIED:20260325T162858Z
UID:65806-1786179600-1786201200@www.sportscardinvestor.com
SUMMARY:Major League Collective
DESCRIPTION:
URL:https://www.sportscardinvestor.com/event/major-league-collective/2026-08-08/
LOCATION:Collingswood Grand Ballroom\, 315 White Horse Pike\, Collingswood\, NJ\, 08107\, United States
CATEGORIES:Card Shows
ORGANIZER;CN="Bryan Woodward":MAILTO:admin@majorleaguecollective.com
END:VEVENT
BEGIN:VEVENT
DTSTART;TZID=America/New_York:20260825T160000
DTEND;TZID=America/New_York:20260825T203000
DTSTAMP:20260424T033216
CREATED:20260325T162858Z
LAST-MODIFIED:20260325T162858Z
UID:65807-1787673600-1787689800@www.sportscardinvestor.com
SUMMARY:Major League Collective
DESCRIPTION:
URL:https://www.sportscardinvestor.com/event/major-league-collective/2026-08-25/
LOCATION:Collingswood Grand Ballroom\, 315 White Horse Pike\, Collingswood\, NJ\, 08107\, United States
CATEGORIES:Card Shows
ORGANIZER;CN="Bryan Woodward":MAILTO:admin@majorleaguecollective.com
END:VEVENT
BEGIN:VEVENT
DTSTART;TZID=America/New_York:20260905T090000
DTEND;TZID=America/New_York:20260905T150000
DTSTAMP:20260424T033216
CREATED:20260325T162858Z
LAST-MODIFIED:20260325T162858Z
UID:65808-1788598800-1788620400@www.sportscardinvestor.com
SUMMARY:Major League Collective
DESCRIPTION:
URL:https://www.sportscardinvestor.com/event/major-league-collective/2026-09-05/
LOCATION:Collingswood Grand Ballroom\, 315 White Horse Pike\, Collingswood\, NJ\, 08107\, United States
CATEGORIES:Card Shows
ORGANIZER;CN="Bryan Woodward":MAILTO:admin@majorleaguecollective.com
END:VEVENT
BEGIN:VEVENT
DTSTART;TZID=America/New_York:20260922T160000
DTEND;TZID=America/New_York:20260922T203000
DTSTAMP:20260424T033216
CREATED:20260325T162858Z
LAST-MODIFIED:20260325T162858Z
UID:65809-1790092800-1790109000@www.sportscardinvestor.com
SUMMARY:Major League Collective
DESCRIPTION:
URL:https://www.sportscardinvestor.com/event/major-league-collective/2026-09-22/
LOCATION:Collingswood Grand Ballroom\, 315 White Horse Pike\, Collingswood\, NJ\, 08107\, United States
CATEGORIES:Card Shows
ORGANIZER;CN="Bryan Woodward":MAILTO:admin@majorleaguecollective.com
END:VEVENT
BEGIN:VEVENT
DTSTART;TZID=America/New_York:20261006T160000
DTEND;TZID=America/New_York:20261006T203000
DTSTAMP:20260424T033216
CREATED:20260325T162858Z
LAST-MODIFIED:20260325T162858Z
UID:65810-1791302400-1791318600@www.sportscardinvestor.com
SUMMARY:Major League Collective
DESCRIPTION:
URL:https://www.sportscardinvestor.com/event/major-league-collective/2026-10-06/
LOCATION:Collingswood Grand Ballroom\, 315 White Horse Pike\, Collingswood\, NJ\, 08107\, United States
CATEGORIES:Card Shows
ORGANIZER;CN="Bryan Woodward":MAILTO:admin@majorleaguecollective.com
END:VEVENT
BEGIN:VEVENT
DTSTART;TZID=America/New_York:20261031T090000
DTEND;TZID=America/New_York:20261031T150000
DTSTAMP:20260424T033216
CREATED:20260325T162858Z
LAST-MODIFIED:20260325T162858Z
UID:65812-1793437200-1793458800@www.sportscardinvestor.com
SUMMARY:Major League Collective
DESCRIPTION:
URL:https://www.sportscardinvestor.com/event/major-league-collective/2026-10-31/
LOCATION:Collingswood Grand Ballroom\, 315 White Horse Pike\, Collingswood\, NJ\, 08107\, United States
CATEGORIES:Card Shows
ORGANIZER;CN="Bryan Woodward":MAILTO:admin@majorleaguecollective.com
END:VEVENT
BEGIN:VEVENT
DTSTART;TZID=America/New_York:20261110T160000
DTEND;TZID=America/New_York:20261110T203000
DTSTAMP:20260424T033216
CREATED:20260325T162858Z
LAST-MODIFIED:20260325T162858Z
UID:65813-1794326400-1794342600@www.sportscardinvestor.com
SUMMARY:Major League Collective
DESCRIPTION:
URL:https://www.sportscardinvestor.com/event/major-league-collective/2026-11-10/
LOCATION:Collingswood Grand Ballroom\, 315 White Horse Pike\, Collingswood\, NJ\, 08107\, United States
CATEGORIES:Card Shows
ORGANIZER;CN="Bryan Woodward":MAILTO:admin@majorleaguecollective.com
END:VEVENT
BEGIN:VEVENT
DTSTART;TZID=America/New_York:20261121T090000
DTEND;TZID=America/New_York:20261121T150000
DTSTAMP:20260424T033216
CREATED:20260325T162858Z
LAST-MODIFIED:20260325T162858Z
UID:65814-1795251600-1795273200@www.sportscardinvestor.com
SUMMARY:Major League Collective
DESCRIPTION:
URL:https://www.sportscardinvestor.com/event/major-league-collective/2026-11-21/
LOCATION:Collingswood Grand Ballroom\, 315 White Horse Pike\, Collingswood\, NJ\, 08107\, United States
CATEGORIES:Card Shows
ORGANIZER;CN="Bryan Woodward":MAILTO:admin@majorleaguecollective.com
END:VEVENT
BEGIN:VEVENT
DTSTART;TZID=America/New_York:20261208T160000
DTEND;TZID=America/New_York:20261208T203000
DTSTAMP:20260424T033216
CREATED:20260325T162858Z
LAST-MODIFIED:20260325T162858Z
UID:65815-1796745600-1796761800@www.sportscardinvestor.com
SUMMARY:Major League Collective
DESCRIPTION:
URL:https://www.sportscardinvestor.com/event/major-league-collective/2026-12-08/
LOCATION:Collingswood Grand Ballroom\, 315 White Horse Pike\, Collingswood\, NJ\, 08107\, United States
CATEGORIES:Card Shows
ORGANIZER;CN="Bryan Woodward":MAILTO:admin@majorleaguecollective.com
END:VEVENT
END:VCALENDAR