BEGIN:VCALENDAR
VERSION:2.0
PRODID:-//Sports Card Investor - ECPv6.15.20//NONSGML v1.0//EN
CALSCALE:GREGORIAN
METHOD:PUBLISH
X-WR-CALNAME:Sports Card Investor
X-ORIGINAL-URL:https://www.sportscardinvestor.com
X-WR-CALDESC:Events for Sports Card Investor
REFRESH-INTERVAL;VALUE=DURATION:PT1H
X-Robots-Tag:noindex
X-PUBLISHED-TTL:PT1H
BEGIN:VTIMEZONE
TZID:America/New_York
BEGIN:DAYLIGHT
TZOFFSETFROM:-0500
TZOFFSETTO:-0400
TZNAME:EDT
DTSTART:20250309T070000
END:DAYLIGHT
BEGIN:STANDARD
TZOFFSETFROM:-0400
TZOFFSETTO:-0500
TZNAME:EST
DTSTART:20251102T060000
END:STANDARD
BEGIN:DAYLIGHT
TZOFFSETFROM:-0500
TZOFFSETTO:-0400
TZNAME:EDT
DTSTART:20260308T070000
END:DAYLIGHT
BEGIN:STANDARD
TZOFFSETFROM:-0400
TZOFFSETTO:-0500
TZNAME:EST
DTSTART:20261101T060000
END:STANDARD
BEGIN:DAYLIGHT
TZOFFSETFROM:-0500
TZOFFSETTO:-0400
TZNAME:EDT
DTSTART:20270314T070000
END:DAYLIGHT
BEGIN:STANDARD
TZOFFSETFROM:-0400
TZOFFSETTO:-0500
TZNAME:EST
DTSTART:20271107T060000
END:STANDARD
END:VTIMEZONE
BEGIN:VEVENT
DTSTART;TZID=America/New_York:20260529T170000
DTEND;TZID=America/New_York:20260529T210000
DTSTAMP:20260420T050639
CREATED:20260210T165754Z
LAST-MODIFIED:20260210T165754Z
UID:65591-1780074000-1780088400@www.sportscardinvestor.com
SUMMARY:Dallas Card Show - Chicago
DESCRIPTION:
URL:https://www.sportscardinvestor.com/event/dallas-card-show-chicago/2026-05-29/
LOCATION:Schaumburg Convention Center\, 1551 Thoreau Dr N\, Schaumburg\, IL\, 60173\, United States
CATEGORIES:Card Shows
ORGANIZER;CN="Austin Paxton":MAILTO:austin@dallascardshow.com
END:VEVENT
BEGIN:VEVENT
DTSTART;TZID=America/New_York:20260530T100000
DTEND;TZID=America/New_York:20260530T200000
DTSTAMP:20260420T050639
CREATED:20260210T165754Z
LAST-MODIFIED:20260210T165754Z
UID:65593-1780135200-1780171200@www.sportscardinvestor.com
SUMMARY:Dallas Card Show - Chicago
DESCRIPTION:
URL:https://www.sportscardinvestor.com/event/dallas-card-show-chicago/2026-05-30/
LOCATION:Schaumburg Convention Center\, 1551 Thoreau Dr N\, Schaumburg\, IL\, 60173\, United States
CATEGORIES:Card Shows
ORGANIZER;CN="Austin Paxton":MAILTO:austin@dallascardshow.com
END:VEVENT
BEGIN:VEVENT
DTSTART;TZID=America/New_York:20260531T100000
DTEND;TZID=America/New_York:20260531T160000
DTSTAMP:20260420T050639
CREATED:20260210T165754Z
LAST-MODIFIED:20260210T165754Z
UID:65594-1780221600-1780243200@www.sportscardinvestor.com
SUMMARY:Dallas Card Show - Chicago
DESCRIPTION:
URL:https://www.sportscardinvestor.com/event/dallas-card-show-chicago/2026-05-31/
LOCATION:Schaumburg Convention Center\, 1551 Thoreau Dr N\, Schaumburg\, IL\, 60173\, United States
CATEGORIES:Card Shows
ORGANIZER;CN="Austin Paxton":MAILTO:austin@dallascardshow.com
END:VEVENT
BEGIN:VEVENT
DTSTART;TZID=America/New_York:20261113T170000
DTEND;TZID=America/New_York:20261113T210000
DTSTAMP:20260420T050639
CREATED:20260210T165754Z
LAST-MODIFIED:20260210T165754Z
UID:65595-1794589200-1794603600@www.sportscardinvestor.com
SUMMARY:Dallas Card Show - Chicago
DESCRIPTION:
URL:https://www.sportscardinvestor.com/event/dallas-card-show-chicago/2026-11-13/
LOCATION:Schaumburg Convention Center\, 1551 Thoreau Dr N\, Schaumburg\, IL\, 60173\, United States
CATEGORIES:Card Shows
ORGANIZER;CN="Austin Paxton":MAILTO:austin@dallascardshow.com
END:VEVENT
BEGIN:VEVENT
DTSTART;TZID=America/New_York:20261114T100000
DTEND;TZID=America/New_York:20261114T200000
DTSTAMP:20260420T050639
CREATED:20260210T165754Z
LAST-MODIFIED:20260210T165754Z
UID:65596-1794650400-1794686400@www.sportscardinvestor.com
SUMMARY:Dallas Card Show - Chicago
DESCRIPTION:
URL:https://www.sportscardinvestor.com/event/dallas-card-show-chicago/2026-11-14/
LOCATION:Schaumburg Convention Center\, 1551 Thoreau Dr N\, Schaumburg\, IL\, 60173\, United States
CATEGORIES:Card Shows
ORGANIZER;CN="Austin Paxton":MAILTO:austin@dallascardshow.com
END:VEVENT
BEGIN:VEVENT
DTSTART;TZID=America/New_York:20261115T100000
DTEND;TZID=America/New_York:20261115T160000
DTSTAMP:20260420T050639
CREATED:20260210T165754Z
LAST-MODIFIED:20260210T165754Z
UID:65597-1794736800-1794758400@www.sportscardinvestor.com
SUMMARY:Dallas Card Show - Chicago
DESCRIPTION:
URL:https://www.sportscardinvestor.com/event/dallas-card-show-chicago/2026-11-15/
LOCATION:Schaumburg Convention Center\, 1551 Thoreau Dr N\, Schaumburg\, IL\, 60173\, United States
CATEGORIES:Card Shows
ORGANIZER;CN="Austin Paxton":MAILTO:austin@dallascardshow.com
END:VEVENT
END:VCALENDAR