BEGIN:VCALENDAR
VERSION:2.0
PRODID:-//Sports Card Investor - ECPv6.15.20//NONSGML v1.0//EN
CALSCALE:GREGORIAN
METHOD:PUBLISH
X-WR-CALNAME:Sports Card Investor
X-ORIGINAL-URL:https://www.sportscardinvestor.com
X-WR-CALDESC:Events for Sports Card Investor
REFRESH-INTERVAL;VALUE=DURATION:PT1H
X-Robots-Tag:noindex
X-PUBLISHED-TTL:PT1H
BEGIN:VTIMEZONE
TZID:America/New_York
BEGIN:DAYLIGHT
TZOFFSETFROM:-0500
TZOFFSETTO:-0400
TZNAME:EDT
DTSTART:20230312T070000
END:DAYLIGHT
BEGIN:STANDARD
TZOFFSETFROM:-0400
TZOFFSETTO:-0500
TZNAME:EST
DTSTART:20231105T060000
END:STANDARD
BEGIN:DAYLIGHT
TZOFFSETFROM:-0500
TZOFFSETTO:-0400
TZNAME:EDT
DTSTART:20240310T070000
END:DAYLIGHT
BEGIN:STANDARD
TZOFFSETFROM:-0400
TZOFFSETTO:-0500
TZNAME:EST
DTSTART:20241103T060000
END:STANDARD
BEGIN:DAYLIGHT
TZOFFSETFROM:-0500
TZOFFSETTO:-0400
TZNAME:EDT
DTSTART:20250309T070000
END:DAYLIGHT
BEGIN:STANDARD
TZOFFSETFROM:-0400
TZOFFSETTO:-0500
TZNAME:EST
DTSTART:20251102T060000
END:STANDARD
END:VTIMEZONE
BEGIN:VEVENT
DTSTART;TZID=America/New_York:20241214T090000
DTEND;TZID=America/New_York:20241214T170000
DTSTAMP:20260420T072800
CREATED:20231202T133026Z
LAST-MODIFIED:20231202T133026Z
UID:64075-1734166800-1734195600@www.sportscardinvestor.com
SUMMARY:Conway Card Show
DESCRIPTION:
URL:https://www.sportscardinvestor.com/event/conway-card-show-5/2024-12-14/
LOCATION:ELITE Academy\, 1400 Old Morrilton Hwy. #3513\, Conway\, AR\, 72032\, United States
CATEGORIES:Card Shows
GEO:35.1119499;-92.4433135
X-APPLE-STRUCTURED-LOCATION;VALUE=URI;X-ADDRESS=ELITE Academy 1400 Old Morrilton Hwy. #3513 Conway AR 72032 United States;X-APPLE-RADIUS=500;X-TITLE=1400 Old Morrilton Hwy. #3513:geo:-92.4433135,35.1119499
END:VEVENT
BEGIN:VEVENT
DTSTART;TZID=America/New_York:20240511T090000
DTEND;TZID=America/New_York:20240511T170000
DTSTAMP:20260420T072800
CREATED:20231202T133026Z
LAST-MODIFIED:20241119T023758Z
UID:60041-1715418000-1715446800@www.sportscardinvestor.com
SUMMARY:Conway Card Show
DESCRIPTION:
URL:https://www.sportscardinvestor.com/event/conway-card-show-5/2024-05-11/
LOCATION:ELITE Academy\, 1400 Old Morrilton Hwy. #3513\, Conway\, AR\, 72032\, United States
CATEGORIES:Card Shows
GEO:35.1119499;-92.4433135
X-APPLE-STRUCTURED-LOCATION;VALUE=URI;X-ADDRESS=ELITE Academy 1400 Old Morrilton Hwy. #3513 Conway AR 72032 United States;X-APPLE-RADIUS=500;X-TITLE=1400 Old Morrilton Hwy. #3513:geo:-92.4433135,35.1119499
END:VEVENT
END:VCALENDAR